BEGIN:VCALENDAR
VERSION:2.0
PRODID:-//hacksw/handcal//NONSGML v1.0//EN
CALSCALE:GREGORIAN
X-WR-CALNAME:RC SAINT-GHISLAIN
X-WR-TIMEZONE:Europe/Brussels
X-PUBLISHED-TTL:PT12H
REFRESH-INTERVAL;VALUE=DURATION:P1D
BEGIN:VTIMEZONE
TZID:Europe/Brussels
X-LIC-LOCATION:Europe/Brussels
BEGIN:STANDARD
DTSTART:19701025T030000
TZOFFSETFROM:+0200
TZOFFSETTO:+0100
RRULE:FREQ=YEARLY;BYDAY=-1SU;BYMONTH=10
TZNAME:CET
END:STANDARD
BEGIN:DAYLIGHT
DTSTART:19700329T020000
TZOFFSETFROM:+0100
TZOFFSETTO:+0200
RRULE:FREQ=YEARLY;BYDAY=-1SU;BYMONTH=3
TZNAME:CEST
END:DAYLIGHT
END:VTIMEZONE
BEGIN:VEVENT
DTSTART;TZID=Europe/Brussels:20260321T120000
DTEND;TZID=Europe/Brussels:20260321T130000
UID:60000a91f731b7898931955e24a5f350
DTSTAMP:20260421T141436
SUMMARY:EWAAL U14 1 - ECOSGM U14 1
LOCATION:Rue de L'Alzette L-7210 Walferdange
END:VEVENT
BEGIN:VEVENT
DTSTART;TZID=Europe/Brussels:20260321T133000
DTEND;TZID=Europe/Brussels:20260321T144000
UID:f6b81c80acec769c1b58eb096ecae6e0
DTSTAMP:20260421T141436
SUMMARY:EWAAL U16 1 - ECOSGM U16 1
LOCATION:Rue de L'Alzette L-7210 Walferdange
END:VEVENT
BEGIN:VEVENT
DTSTART;TZID=Europe/Brussels:20260321T150000
DTEND;TZID=Europe/Brussels:20260321T161000
UID:534f15404da7bc0a92a8dc00434954ac
DTSTAMP:20260421T141436
SUMMARY:DEND U18 1 - EOCOSG U18 1
LOCATION:Van Langenhovestraat 203b 9200 Dendermonde
END:VEVENT
BEGIN:VEVENT
DTSTART;TZID=Europe/Brussels:20260322T130000
DTEND;TZID=Europe/Brussels:20260322T150000
UID:03199655a69bab88367498fa99051d57
DTSTAMP:20260421T141436
SUMMARY:COLL SEN MEN 1 - STGH SEN MEN 1
LOCATION:Chemin du carnois 32a, 7910 Frasnes-lez-anvaing
END:VEVENT
BEGIN:VEVENT
DTSTART;TZID=Europe/Brussels:20260328T100000
DTEND;TZID=Europe/Brussels:20260328T120000
UID:e4382a9b3d07b23a258994cc40102cde
DTSTAMP:20260421T141436
SUMMARY:Tournament U8-10-12 | Rugby Coyotes Club de Binche
LOCATION:Rugby Coyotes Club de Binche | Rue de l'Industrie, 7134 Binche
END:VEVENT
BEGIN:VEVENT
DTSTART;TZID=Europe/Brussels:20260328T120000
DTEND;TZID=Europe/Brussels:20260328T130000
UID:3eb05be9cb2bd16ce5c056846f3c86b7
DTSTAMP:20260421T141436
SUMMARY:ECOSGM U14 1 - OUDE U14 1
LOCATION:Rue des Déportés, 7332 Sirault
END:VEVENT
BEGIN:VEVENT
DTSTART;TZID=Europe/Brussels:20260328T133000
DTEND;TZID=Europe/Brussels:20260328T144000
UID:3bbe8bcd9393c9cb42b97d790aa1926d
DTSTAMP:20260421T141436
SUMMARY:ECOSGM U16 1 - BWES U16 1
LOCATION:Chemin du carnois 32a, 7910 Frasnes-lez-anvaing
END:VEVENT
BEGIN:VEVENT
DTSTART;TZID=Europe/Brussels:20260328T150000
DTEND;TZID=Europe/Brussels:20260328T161000
UID:6a9700661e827042d339c8605237cb5f
DTSTAMP:20260421T141436
SUMMARY:EOCOSG U18 1 - CSCE U18 1
LOCATION:Chem. du Carnois 32A, 7910 Frasnes-lez-Anvaing
END:VEVENT
BEGIN:VEVENT
DTSTART;TZID=Europe/Brussels:20260328T150000
DTEND;TZID=Europe/Brussels:20260328T163000
UID:2a785db27e3e6263a32e9a15f1985e0c
DTSTAMP:20260421T141436
SUMMARY:ESGCO SEN LAD 1 - AREN SEN LAD 1
LOCATION:Chem. du Carnois 32A, 7910 Frasnes-lez-Anvaing
END:VEVENT
BEGIN:VEVENT
DTSTART;TZID=Europe/Brussels:20260329T150000
DTEND;TZID=Europe/Brussels:20260329T163000
UID:6f4958796963cf9a71fef819656b4230
DTSTAMP:20260421T141436
SUMMARY:STGH SEN MEN 1 - LAHU SEN MEN 3
LOCATION:Rue des Déportés, 7332 Sirault
END:VEVENT
BEGIN:VEVENT
DTSTART;VALUE=DATE:20260403
DTEND;VALUE=DATE:20260404
UID:883d6f76a495331e7319032b08f4fefb
DTSTAMP:20260421T141436
SUMMARY:Chasse aux oeufs baby-U6-U8-U10-U12
DESCRIPTION:<p>vente de cornets de pates</p>
LOCATION:RCSG
END:VEVENT
BEGIN:VEVENT
DTSTART;TZID=Europe/Brussels:20260411T150000
DTEND;TZID=Europe/Brussels:20260411T163000
UID:06cf2762970eb14c6894fd6759fb5b83
DTSTAMP:20260421T141436
SUMMARY:LEUV SEN LAD 2 - ESGCO SEN LAD 1
LOCATION:Koetsweg 204a 3010 Kessel-Lo
END:VEVENT
BEGIN:VEVENT
DTSTART;TZID=Europe/Brussels:20260412T150000
DTEND;TZID=Europe/Brussels:20260412T163000
UID:61420aa8373c3362e3263bd5f2ad9f58
DTSTAMP:20260421T141436
SUMMARY:HESB SEN MEN 1 - STGH SEN MEN 1
LOCATION:rue des Prés Brion 10, 4500 Huy
END:VEVENT
BEGIN:VEVENT
DTSTART;TZID=Europe/Brussels:20260417T180000
DTEND;TZID=Europe/Brussels:20260417T230000
UID:a67d786068eb15e2fd2a5fa05f252f9e
DTSTAMP:20260421T141436
SUMMARY:event burger
LOCATION:rcsg
END:VEVENT
BEGIN:VEVENT
DTSTART;TZID=Europe/Brussels:20260418T120000
DTEND;TZID=Europe/Brussels:20260418T130000
UID:fc3174ee49a880908a3c60bf45fddce9
DTSTAMP:20260421T141436
SUMMARY:ECOSGM U14 1 - ELAAR U14 1
DESCRIPTION:<br/>Mandela<br/><small><a href="https://www.google.com/maps?q=Rue de Ransbeek, 227 Ransbeekstraat, 227 , 1120 Brussels, Belgium" target="_blank">Rue de Ransbeek, 227 Ransbeekstraat, 227 , 1120 Brussels, Belgium</a></small>
LOCATION:Rue des Déportés, 7332 Sirault
END:VEVENT
BEGIN:VEVENT
DTSTART;TZID=Europe/Brussels:20260418T133000
DTEND;TZID=Europe/Brussels:20260418T144000
UID:cfdb11236b984ba3b9171fca775898c8
DTSTAMP:20260421T141436
SUMMARY:ECOSGM U16 1 - SCHI U16 1
LOCATION:Rue des Déportés, 7332 Sirault
END:VEVENT
BEGIN:VEVENT
DTSTART;TZID=Europe/Brussels:20260418T150000
DTEND;TZID=Europe/Brussels:20260418T161000
UID:d8648d27dd0a14e9ba200e124c356919
DTSTAMP:20260421T141436
SUMMARY:EOCOSG U18 1 - BOIT U18 2
LOCATION:Aalststraat 182, 9700 Oudenaarde
END:VEVENT
BEGIN:VEVENT
DTSTART;TZID=Europe/Brussels:20260418T150000
DTEND;TZID=Europe/Brussels:20260418T163000
UID:ad6005f13ea336ea7b060cd44db2c502
DTSTAMP:20260421T141436
SUMMARY:HAUM SEN LAD 1 - ESGCO SEN LAD 1
LOCATION:18A Rue Du Pont, 5530 Godinne
END:VEVENT
BEGIN:VEVENT
DTSTART;TZID=Europe/Brussels:20260419T150000
DTEND;TZID=Europe/Brussels:20260419T163000
UID:3fc6bc4af80cbb245487daf3ce2323ac
DTSTAMP:20260421T141436
SUMMARY:STGH SEN MEN 1 - ROCO SEN MEN 3
DESCRIPTION:<p>presence du foodtruck bichon</p>
LOCATION:Rue des Déportés, 7332 Sirault
END:VEVENT
BEGIN:VEVENT
DTSTART;TZID=Europe/Brussels:20260422T090000
DTEND;TZID=Europe/Brussels:20260422T170000
UID:dafb920646f07c822f999742e6a21122
DTSTAMP:20260421T141436
SUMMARY:Journée récrégénérationnelle de la ville de Saint-Ghislain
LOCATION:parc de Baudour
END:VEVENT
BEGIN:VEVENT
DTSTART;TZID=Europe/Brussels:20260425T120000
DTEND;TZID=Europe/Brussels:20260425T130000
UID:70a8cbb2b734062edbd744fd38689425
DTSTAMP:20260421T141436
SUMMARY:MECH U14 1 - ECOSGM U14 1
LOCATION:Hombekerkouter 14, 2811 Hombeek
END:VEVENT
BEGIN:VEVENT
DTSTART;TZID=Europe/Brussels:20260425T133000
DTEND;TZID=Europe/Brussels:20260425T143000
UID:950c209d0193020dd138b076d3f26a02
DTSTAMP:20260421T141436
SUMMARY:ECOSGM U16 1 - CITI U16 1
LOCATION:Chemin du carnois 32a, 7910 Frasnes-lez-anvaing
END:VEVENT
BEGIN:VEVENT
DTSTART;TZID=Europe/Brussels:20260425T150000
DTEND;TZID=Europe/Brussels:20260425T163000
UID:d35dab20bd9f51734538c683a2e0b478
DTSTAMP:20260421T141436
SUMMARY:ESGCO SEN LAD 1 - LAAK SEN LAD 1
LOCATION:Chemin du carnois 32a, 7910 Frasnes-lez-anvaing
END:VEVENT
BEGIN:VEVENT
DTSTART;TZID=Europe/Brussels:20260425T150000
DTEND;TZID=Europe/Brussels:20260425T161000
UID:656b3ebc3d4f0c0a1e63d045cd4b3b68
DTSTAMP:20260421T141436
SUMMARY:EVICO U18 1 - EOCOSG U18 1
LOCATION:Rue des Trixhes 63 · 4607 Berneau
END:VEVENT
BEGIN:VEVENT
DTSTART;TZID=Europe/Brussels:20260502T150000
DTEND;TZID=Europe/Brussels:20260502T163000
UID:b9b382a5eb07521e53fec1fd6c21898f
DTSTAMP:20260421T141436
SUMMARY:ESGCO SEN LAD 1 - LOMM SEN LAD 1
LOCATION:Chemin du carnois 32a, 7910 Frasnes-lez-anvaing
END:VEVENT
BEGIN:VEVENT
DTSTART;TZID=Europe/Brussels:20260504T080000
DTEND;TZID=Europe/Brussels:20260508T160000
UID:26eb275a69c81f8ac87e16df86ca9154
DTSTAMP:20260421T141436
SUMMARY:Stage de Printemps U6 à U14
LOCATION:RCSG
END:VEVENT
BEGIN:VEVENT
DTSTART;TZID=Europe/Brussels:20260509T150000
DTEND;TZID=Europe/Brussels:20260509T163000
UID:9a0cd058701255c54a1e388e6867f8a9
DTSTAMP:20260421T141436
SUMMARY:ESGCO SEN LAD 1 - HAUM SEN LAD 1
LOCATION:Chemin du carnois 32a, 7910 Frasnes-lez-anvaing
END:VEVENT
BEGIN:VEVENT
DTSTART;TZID=Europe/Brussels:20260606T190000
DTEND;TZID=Europe/Brussels:20260606T230000
UID:49bd8d457ef59863d004f869a0e631c0
DTSTAMP:20260421T141436
SUMMARY:Souper de fin de saison
END:VEVENT
BEGIN:VEVENT
DTSTART;TZID=Europe/Brussels:20260615T190000
DTEND;TZID=Europe/Brussels:20260615T210000
UID:f7a4b9e83811cd129e5cae89fa20b905
DTSTAMP:20260421T141436
SUMMARY:Assemblée générale et diffusion du match des diables rouges
DESCRIPTION:<p>presence du foodtruck bichon</p>
LOCATION:rugby club tatonka
END:VEVENT
BEGIN:VEVENT
DTSTART;TZID=Europe/Brussels:20260803T080000
DTEND;TZID=Europe/Brussels:20260807T160000
UID:f8c7ed5c5242b3589da49fc46cfc256f
DTSTAMP:20260421T141436
SUMMARY:Stage de grandes vacances
LOCATION:RCSG
END:VEVENT
BEGIN:VEVENT
DTSTART;TZID=Europe/Brussels:20261024T180000
DTEND;TZID=Europe/Brussels:20261024T235900
UID:9a40ac206a6df0ab64e9122091a7fe12
DTSTAMP:20260421T141436
SUMMARY:Soirée Halloween
END:VEVENT
BEGIN:VEVENT
DTSTART;TZID=Europe/Brussels:20261205T180000
DTEND;TZID=Europe/Brussels:20261205T200000
UID:ca0bd8739800d863b3dcc45f7c6b179a
DTSTAMP:20260421T141436
SUMMARY:ST Nicolas
END:VEVENT
END:VCALENDAR
